BEGIN:VCALENDAR
VERSION:2.0
PRODID:icalendar-ruby
CALSCALE:GREGORIAN
METHOD:PUBLISH
BEGIN:VEVENT
DTSTAMP:20260424T220015Z
UID:5-405504@hopefamily.tv
DTSTART:20261101T183000Z
DTEND:20261101T193000Z
CLASS:PUBLIC
CREATED:20260424T141404
DESCRIPTION:Sunday Worship
LAST-MODIFIED:20260424T141404
LOCATION:
SUMMARY:Sunday Worship
URL;VALUE=URI:https://www.hopefamily.tv/events/sunday-worship/2026-11-01
END:VEVENT
END:VCALENDAR
