BEGIN:VCALENDAR
VERSION:2.0
PRODID:icalendar-ruby
CALSCALE:GREGORIAN
METHOD:PUBLISH
BEGIN:VEVENT
DTSTAMP:20260424T201358Z
UID:5-405242@hopefamily.tv
DTSTART:20261025T173000Z
DTEND:20261025T183000Z
CLASS:PUBLIC
CREATED:20260424T112612
DESCRIPTION:Sunday Worship
LAST-MODIFIED:20260424T112612
LOCATION:
SUMMARY:Sunday Worship
URL;VALUE=URI:https://www.hopefamily.tv/events/sunday-worship/2026-10-25
END:VEVENT
END:VCALENDAR
