BEGIN:VCALENDAR
VERSION:2.0
PRODID:icalendar-ruby
CALSCALE:GREGORIAN
METHOD:PUBLISH
BEGIN:VEVENT
DTSTAMP:20260424T153101Z
UID:5-404717@hopefamily.tv
DTSTART:20261004T173000Z
DTEND:20261004T183000Z
CLASS:PUBLIC
CREATED:20260424T054759
DESCRIPTION:Sunday Worship
LAST-MODIFIED:20260424T054759
LOCATION:
SUMMARY:Sunday Worship
URL;VALUE=URI:https://www.hopefamily.tv/events/sunday-worship/2026-10-04
END:VEVENT
END:VCALENDAR
