BEGIN:VCALENDAR
VERSION:2.0
PRODID:icalendar-ruby
CALSCALE:GREGORIAN
METHOD:PUBLISH
BEGIN:VEVENT
DTSTAMP:20260424T133233Z
UID:5-404716@hopefamily.tv
DTSTART:20260927T173000Z
DTEND:20260927T183000Z
CLASS:PUBLIC
CREATED:20260424T054759
DESCRIPTION:Sunday Worship
LAST-MODIFIED:20260424T054759
LOCATION:
SUMMARY:Sunday Worship
URL;VALUE=URI:https://www.hopefamily.tv/events/sunday-worship/2026-09-27
END:VEVENT
END:VCALENDAR
